BEGIN:VCALENDAR
VERSION:2.0
PRODID:-//Plone.org//NONSGML plone.app.event//EN
X-WR-TIMEZONE:America/Detroit
BEGIN:VEVENT
SUMMARY:Virginia G Herman - Funeral Service
DTSTART;TZID=America/Detroit;VALUE=DATE-TIME:20250303T140000
DTEND;TZID=America/Detroit;VALUE=DATE-TIME:20250303T150000
DTSTAMP;VALUE=DATE-TIME:20260423T081236Z
UID:8d1e9d82f8c0413981c19b591a81faf9
CONTACT:Pollock-Randall Office\, 810 982-0179\, info@pollockrandall.com\, 
 https://maps.google.com/?q=Pollock+Randall+Funeral+Home+912+Lapeer+Avenue+
 Port+Huron+MI+48060
CREATED;VALUE=DATE-TIME:20260131T232104Z
DESCRIPTION:Pollock-Randall Funeral Home
LAST-MODIFIED;VALUE=DATE-TIME:20260131T232104Z
LOCATION:912 Lapeer Avenue\, Port Huron\, MI\, 48060
URL:https://pollockrandall.com/obituaries/17751/event-30122
END:VEVENT
BEGIN:VEVENT
SUMMARY:Virginia G Herman - Visitation
DTSTART;TZID=America/Detroit;VALUE=DATE-TIME:20250303T120000
DTEND;TZID=America/Detroit;VALUE=DATE-TIME:20250303T140000
DTSTAMP;VALUE=DATE-TIME:20260423T081236Z
UID:c7439ff9fa2a43cca083cb471153e6fa
CONTACT:Pollock-Randall Office\, 810 982-0179\, info@pollockrandall.com\, 
 https://maps.google.com/?q=Pollock+Randall+Funeral+Home+912+Lapeer+Avenue+
 Port+Huron+MI+48060
CREATED;VALUE=DATE-TIME:20260131T232102Z
DESCRIPTION:Pollock-Randall Funeral Home
LAST-MODIFIED;VALUE=DATE-TIME:20260131T232103Z
LOCATION:912 Lapeer Avenue\, Port Huron\, MI\, 48060
URL:https://pollockrandall.com/obituaries/17751/event-30121
END:VEVENT
BEGIN:VEVENT
SUMMARY:Virginia G Herman - Visitation
DTSTART;TZID=America/Detroit;VALUE=DATE-TIME:20250302T140000
DTEND;TZID=America/Detroit;VALUE=DATE-TIME:20250302T160000
DTSTAMP;VALUE=DATE-TIME:20260423T081236Z
UID:a13b184c40b14c798c329788a81324dc
CONTACT:Pollock-Randall Office\, 810 982-0179\, info@pollockrandall.com\, 
 https://maps.google.com/?q=Pollock+Randall+Funeral+Home+912+Lapeer+Avenue+
 Port+Huron+MI+48060
CREATED;VALUE=DATE-TIME:20260131T232100Z
DESCRIPTION:Pollock-Randall Funeral Home
LAST-MODIFIED;VALUE=DATE-TIME:20260131T232101Z
LOCATION:912 Lapeer Avenue\, Port Huron\, MI\, 48060
URL:https://pollockrandall.com/obituaries/17751/event-30120
END:VEVENT
BEGIN:VTIMEZONE
TZID:America/Detroit
X-LIC-LOCATION:America/Detroit
BEGIN:STANDARD
DTSTART;VALUE=DATE-TIME:20241103T010000
TZNAME:EST
TZOFFSETFROM:-0400
TZOFFSETTO:-0500
END:STANDARD
END:VTIMEZONE
END:VCALENDAR
