BEGIN:VCALENDAR
VERSION:2.0
PRODID:-//Plone.org//NONSGML plone.app.event//EN
X-WR-TIMEZONE:America/Detroit
BEGIN:VEVENT
SUMMARY:Ruth E Fraley - Funeral Mass
DTSTART;TZID=America/Detroit;VALUE=DATE-TIME:20250321T110000
DTEND;TZID=America/Detroit;VALUE=DATE-TIME:20250321T120000
DTSTAMP;VALUE=DATE-TIME:20260423T081302Z
UID:f35e443205f24d959683e01b8febed45
CONTACT:Marysville Office\, 810 364-7100\, info@marysvillefuneralhome.com\
 , https://maps.google.com/?q=St.+Christopher+Catholic+Church+1000+Michigan
 +Ave.+Marysville+MI+48040
CREATED;VALUE=DATE-TIME:20260131T231957Z
DESCRIPTION:St. Christopher Catholic Church
LAST-MODIFIED;VALUE=DATE-TIME:20260131T231958Z
LOCATION:1000 Michigan Ave.\, Marysville\, MI\, 48040
URL:https://pollockrandall.com/obituaries/17773/event-30159
END:VEVENT
BEGIN:VEVENT
SUMMARY:Ruth E Fraley - Visitation
DTSTART;TZID=America/Detroit;VALUE=DATE-TIME:20250321T100000
DTEND;TZID=America/Detroit;VALUE=DATE-TIME:20250321T110000
DTSTAMP;VALUE=DATE-TIME:20260423T081302Z
UID:008cd0891ce5441d95b6e8235190191d
CONTACT:Marysville Office\, 810 364-7100\, info@marysvillefuneralhome.com\
 , https://maps.google.com/?q=St.+Christopher+Catholic+Church+1000+Michigan
 +Ave.+Marysville+MI+48040
CREATED;VALUE=DATE-TIME:20260131T231954Z
DESCRIPTION:St. Christopher Catholic Church
LAST-MODIFIED;VALUE=DATE-TIME:20260131T231956Z
LOCATION:1000 Michigan Ave.\, Marysville\, MI\, 48040
URL:https://pollockrandall.com/obituaries/17773/event-30150
END:VEVENT
BEGIN:VEVENT
SUMMARY:Ruth E Fraley - Visitation
DTSTART;TZID=America/Detroit;VALUE=DATE-TIME:20250320T180000
DTEND;TZID=America/Detroit;VALUE=DATE-TIME:20250320T200000
DTSTAMP;VALUE=DATE-TIME:20260423T081302Z
UID:14fe079cc8bf406b8560efb5e0677970
CONTACT:Marysville Office\, 810 364-7100\, info@marysvillefuneralhome.com\
 , https://maps.google.com/?q=Marysville+Funeral+Home+1200+Michigan+Avenue+
 Marysville+MI+48040
CREATED;VALUE=DATE-TIME:20260131T231952Z
DESCRIPTION:Marysville Funeral Home
LAST-MODIFIED;VALUE=DATE-TIME:20260131T231953Z
LOCATION:1200 Michigan Avenue\, Marysville\, MI\, 48040
URL:https://pollockrandall.com/obituaries/17773/event-30149
END:VEVENT
BEGIN:VEVENT
SUMMARY:Ruth E Fraley - Visitation
DTSTART;TZID=America/Detroit;VALUE=DATE-TIME:20250320T140000
DTEND;TZID=America/Detroit;VALUE=DATE-TIME:20250320T160000
DTSTAMP;VALUE=DATE-TIME:20260423T081302Z
UID:a0c68c7caf664c3597cd79545fdd06ff
CONTACT:Marysville Office\, 810 364-7100\, info@marysvillefuneralhome.com\
 , https://maps.google.com/?q=Marysville+Funeral+Home+1200+Michigan+Avenue+
 Marysville+MI+48040
CREATED;VALUE=DATE-TIME:20260131T231950Z
DESCRIPTION:Marysville Funeral Home
LAST-MODIFIED;VALUE=DATE-TIME:20260131T231951Z
LOCATION:1200 Michigan Avenue\, Marysville\, MI\, 48040
URL:https://pollockrandall.com/obituaries/17773/event-30148
END:VEVENT
BEGIN:VTIMEZONE
TZID:America/Detroit
X-LIC-LOCATION:America/Detroit
BEGIN:DAYLIGHT
DTSTART;VALUE=DATE-TIME:20250309T030000
TZNAME:EDT
TZOFFSETFROM:-0500
TZOFFSETTO:-0400
END:DAYLIGHT
END:VTIMEZONE
END:VCALENDAR
