BEGIN:VCALENDAR
VERSION:2.0
PRODID:-//Plone.org//NONSGML plone.app.event//EN
X-WR-TIMEZONE:America/Detroit
BEGIN:VEVENT
SUMMARY:Neil J Hamann - Funeral Mass
DTSTART;TZID=America/Detroit;VALUE=DATE-TIME:20250326T110000
DTEND;TZID=America/Detroit;VALUE=DATE-TIME:20250326T120000
DTSTAMP;VALUE=DATE-TIME:20260423T105758Z
UID:49579a783cf64f4d9c8cb3ee3c7cd243
CONTACT:Marysville Office\, 810 364-7100\, info@marysvillefuneralhome.com\
 , https://maps.google.com/?q=St.+Stephen+Catholic+Church+Holy+Trinity+Pari
 sh+325+32nd+Street+Port+Huron+MI+48060
CREATED;VALUE=DATE-TIME:20260131T231907Z
DESCRIPTION:St. Stephen Catholic Church- Holy Trinity Parish
LAST-MODIFIED;VALUE=DATE-TIME:20260131T231907Z
LOCATION:325 32nd Street\, Port Huron\, MI\, 48060
URL:https://pollockrandall.com/obituaries/17792/event-30185
END:VEVENT
BEGIN:VEVENT
SUMMARY:Neil J Hamann - Visitation
DTSTART;TZID=America/Detroit;VALUE=DATE-TIME:20250326T103000
DTEND;TZID=America/Detroit;VALUE=DATE-TIME:20250326T110000
DTSTAMP;VALUE=DATE-TIME:20260423T105758Z
UID:500d778c3e0044b6b2d8b2d18d39ff41
CONTACT:Marysville Office\, 810 364-7100\, info@marysvillefuneralhome.com\
 , https://maps.google.com/?q=St.+Stephen+Catholic+Church+Holy+Trinity+Pari
 sh+325+32nd+Street+Port+Huron+MI+48060
CREATED;VALUE=DATE-TIME:20260131T231906Z
DESCRIPTION:St. Stephen Catholic Church- Holy Trinity Parish
LAST-MODIFIED;VALUE=DATE-TIME:20260131T231906Z
LOCATION:325 32nd Street\, Port Huron\, MI\, 48060
URL:https://pollockrandall.com/obituaries/17792/event-30184
END:VEVENT
BEGIN:VEVENT
SUMMARY:Neil J Hamann - Visitation
DTSTART;TZID=America/Detroit;VALUE=DATE-TIME:20250325T180000
DTEND;TZID=America/Detroit;VALUE=DATE-TIME:20250325T210000
DTSTAMP;VALUE=DATE-TIME:20260423T105758Z
UID:65785e0f52cb4fd4b21ecb7c306aa6dc
CONTACT:Marysville Office\, 810 364-7100\, info@marysvillefuneralhome.com\
 , https://maps.google.com/?q=Marysville+Funeral+Home+1200+Michigan+Avenue+
 Marysville+MI+48040
CREATED;VALUE=DATE-TIME:20260131T231904Z
DESCRIPTION:Marysville Funeral Home
LAST-MODIFIED;VALUE=DATE-TIME:20260131T231904Z
LOCATION:1200 Michigan Avenue\, Marysville\, MI\, 48040
URL:https://pollockrandall.com/obituaries/17792/event-30183
END:VEVENT
BEGIN:VEVENT
SUMMARY:Neil J Hamann - Visitation
DTSTART;TZID=America/Detroit;VALUE=DATE-TIME:20250325T140000
DTEND;TZID=America/Detroit;VALUE=DATE-TIME:20250325T170000
DTSTAMP;VALUE=DATE-TIME:20260423T105758Z
UID:08a659fc7e6b4d9f84183e7f7088a521
CONTACT:Marysville Office\, 810 364-7100\, info@marysvillefuneralhome.com\
 , https://maps.google.com/?q=Marysville+Funeral+Home+1200+Michigan+Avenue+
 Marysville+MI+48040
CREATED;VALUE=DATE-TIME:20260131T231902Z
DESCRIPTION:Marysville Funeral Home
LAST-MODIFIED;VALUE=DATE-TIME:20260131T231903Z
LOCATION:1200 Michigan Avenue\, Marysville\, MI\, 48040
URL:https://pollockrandall.com/obituaries/17792/event-30182
END:VEVENT
BEGIN:VTIMEZONE
TZID:America/Detroit
X-LIC-LOCATION:America/Detroit
BEGIN:DAYLIGHT
DTSTART;VALUE=DATE-TIME:20250309T030000
TZNAME:EDT
TZOFFSETFROM:-0500
TZOFFSETTO:-0400
END:DAYLIGHT
END:VTIMEZONE
END:VCALENDAR
