BEGIN:VCALENDAR
VERSION:2.0
PRODID:-//Plone.org//NONSGML plone.app.event//EN
X-WR-TIMEZONE:America/Detroit
BEGIN:VEVENT
SUMMARY:Judith J Halamka - Funeral Service
DTSTART;TZID=America/Detroit;VALUE=DATE-TIME:20250414T110000
DTEND;TZID=America/Detroit;VALUE=DATE-TIME:20250414T120000
DTSTAMP;VALUE=DATE-TIME:20260421T155132Z
UID:376589596e464639b867863bc9f84271
CONTACT:Pollock-Randall Office\, 810 982-0179\, info@pollockrandall.com\, 
 https://maps.google.com/?q=St.+Paul+Lutheran+Church+3790+West+Water+Street
 +Port+Huron+MI+48060
CREATED;VALUE=DATE-TIME:20260131T231725Z
DESCRIPTION:St. Paul Lutheran Church
LAST-MODIFIED;VALUE=DATE-TIME:20260131T231726Z
LOCATION:3790 West Water Street\, Port Huron\, MI\, 48060
URL:https://pollockrandall.com/obituaries/17821/event-30230
END:VEVENT
BEGIN:VEVENT
SUMMARY:Judith J Halamka - Visitation
DTSTART;TZID=America/Detroit;VALUE=DATE-TIME:20250414T103000
DTEND;TZID=America/Detroit;VALUE=DATE-TIME:20250414T110000
DTSTAMP;VALUE=DATE-TIME:20260421T155132Z
UID:c7d245ee93bb4a7a8059eb16a6898de4
CONTACT:Pollock-Randall Office\, 810 982-0179\, info@pollockrandall.com\, 
 https://maps.google.com/?q=St.+Paul+Lutheran+Church+3790+West+Water+Street
 +Port+Huron+MI+48060
CREATED;VALUE=DATE-TIME:20260131T231724Z
DESCRIPTION:St. Paul Lutheran Church
LAST-MODIFIED;VALUE=DATE-TIME:20260131T231725Z
LOCATION:3790 West Water Street\, Port Huron\, MI\, 48060
URL:https://pollockrandall.com/obituaries/17821/event-30229
END:VEVENT
BEGIN:VEVENT
SUMMARY:Judith J Halamka - Visitation
DTSTART;TZID=America/Detroit;VALUE=DATE-TIME:20250413T140000
DTEND;TZID=America/Detroit;VALUE=DATE-TIME:20250413T170000
DTSTAMP;VALUE=DATE-TIME:20260421T155132Z
UID:2a5de3ec7fb74be694f52bb818db59ec
CONTACT:Pollock-Randall Office\, 810 982-0179\, info@pollockrandall.com\, 
 https://maps.google.com/?q=Pollock+Randall+Funeral+Home+912+Lapeer+Avenue+
 Port+Huron+MI+48060
CREATED;VALUE=DATE-TIME:20260131T231722Z
DESCRIPTION:Pollock-Randall Funeral Home
LAST-MODIFIED;VALUE=DATE-TIME:20260131T231723Z
LOCATION:912 Lapeer Avenue\, Port Huron\, MI\, 48060
URL:https://pollockrandall.com/obituaries/17821/event-30228
END:VEVENT
BEGIN:VTIMEZONE
TZID:America/Detroit
X-LIC-LOCATION:America/Detroit
BEGIN:DAYLIGHT
DTSTART;VALUE=DATE-TIME:20250309T030000
TZNAME:EDT
TZOFFSETFROM:-0500
TZOFFSETTO:-0400
END:DAYLIGHT
END:VTIMEZONE
END:VCALENDAR
