BEGIN:VCALENDAR
VERSION:2.0
PRODID:-//Plone.org//NONSGML plone.app.event//EN
X-WR-TIMEZONE:America/Detroit
BEGIN:VEVENT
SUMMARY:Joan A Burkhardt - Funeral Mass
DTSTART;TZID=America/Detroit;VALUE=DATE-TIME:20251029T110000
DTEND;TZID=America/Detroit;VALUE=DATE-TIME:20251029T120000
DTSTAMP;VALUE=DATE-TIME:20260420T183900Z
UID:4b345ec3fb834e8e933086bc397c13fe
CONTACT:Pollock-Randall Office\, 810 982-0179\, info@pollockrandall.com\, 
 https://maps.google.com/?q=St.+Joseph+Catholic+Church+Port+Huron+1331+7th+
 Street+Port+Huron+MI+48060
CREATED;VALUE=DATE-TIME:20260131T223717Z
DESCRIPTION:St. Joseph Catholic Church - Port Huron
LAST-MODIFIED;VALUE=DATE-TIME:20260131T225713Z
LOCATION:1331 7th Street\, Port Huron\, MI\, 48060
URL:https://pollockrandall.com/obituaries/18144/event-30765
END:VEVENT
BEGIN:VEVENT
SUMMARY:Joan A Burkhardt - Visitation
DTSTART;TZID=America/Detroit;VALUE=DATE-TIME:20251029T103000
DTEND;TZID=America/Detroit;VALUE=DATE-TIME:20251029T110000
DTSTAMP;VALUE=DATE-TIME:20260420T183900Z
UID:e761ce7db3894810aafd03359ddcea2f
CONTACT:Pollock-Randall Office\, 810 982-0179\, info@pollockrandall.com\, 
 https://maps.google.com/?q=St.+Joseph+Catholic+Church+Port+Huron+1331+7th+
 Street+Port+Huron+MI+48060
CREATED;VALUE=DATE-TIME:20260131T223716Z
DESCRIPTION:St. Joseph Catholic Church - Port Huron
LAST-MODIFIED;VALUE=DATE-TIME:20260131T225712Z
LOCATION:1331 7th Street\, Port Huron\, MI\, 48060
URL:https://pollockrandall.com/obituaries/18144/event-30764
END:VEVENT
BEGIN:VEVENT
SUMMARY:Joan A Burkhardt - Scripture Service
DTSTART;TZID=America/Detroit;VALUE=DATE-TIME:20251028T193000
DTEND;TZID=America/Detroit;VALUE=DATE-TIME:20251028T200000
DTSTAMP;VALUE=DATE-TIME:20260420T183900Z
UID:c980525e0e6b4408bc6fbc5b43b4e2e9
CONTACT:Pollock-Randall Office\, 810 982-0179\, info@pollockrandall.com\, 
 https://maps.google.com/?q=Pollock+Randall+Funeral+Home+912+Lapeer+Avenue+
 Port+Huron+MI+48060
CREATED;VALUE=DATE-TIME:20260131T223714Z
DESCRIPTION:Pollock-Randall Funeral Home
LAST-MODIFIED;VALUE=DATE-TIME:20260131T225712Z
LOCATION:912 Lapeer Avenue\, Port Huron\, MI\, 48060
URL:https://pollockrandall.com/obituaries/18144/event-30763
END:VEVENT
BEGIN:VEVENT
SUMMARY:Joan A Burkhardt - Visitation
DTSTART;TZID=America/Detroit;VALUE=DATE-TIME:20251028T180000
DTEND;TZID=America/Detroit;VALUE=DATE-TIME:20251028T200000
DTSTAMP;VALUE=DATE-TIME:20260420T183900Z
UID:f0bebaddb13d4df8ba30aa46aca2f52d
CONTACT:Pollock-Randall Office\, 810 982-0179\, info@pollockrandall.com\, 
 https://maps.google.com/?q=Pollock+Randall+Funeral+Home+912+Lapeer+Avenue+
 Port+Huron+MI+48060
CREATED;VALUE=DATE-TIME:20260131T223713Z
DESCRIPTION:Pollock-Randall Funeral Home
LAST-MODIFIED;VALUE=DATE-TIME:20260131T225710Z
LOCATION:912 Lapeer Avenue\, Port Huron\, MI\, 48060
URL:https://pollockrandall.com/obituaries/18144/event-30762
END:VEVENT
BEGIN:VEVENT
SUMMARY:Joan A Burkhardt - Visitation
DTSTART;TZID=America/Detroit;VALUE=DATE-TIME:20251028T140000
DTEND;TZID=America/Detroit;VALUE=DATE-TIME:20251028T160000
DTSTAMP;VALUE=DATE-TIME:20260420T183900Z
UID:a623d2a3ef5d47789a02b17d732a9eb8
CONTACT:Pollock-Randall Office\, 810 982-0179\, info@pollockrandall.com\, 
 https://maps.google.com/?q=Pollock+Randall+Funeral+Home+912+Lapeer+Avenue+
 Port+Huron+MI+48060
CREATED;VALUE=DATE-TIME:20260131T223712Z
DESCRIPTION:Pollock-Randall Funeral Home
LAST-MODIFIED;VALUE=DATE-TIME:20260131T225710Z
LOCATION:912 Lapeer Avenue\, Port Huron\, MI\, 48060
URL:https://pollockrandall.com/obituaries/18144/event-30761
END:VEVENT
BEGIN:VTIMEZONE
TZID:America/Detroit
X-LIC-LOCATION:America/Detroit
BEGIN:DAYLIGHT
DTSTART;VALUE=DATE-TIME:20250309T030000
TZNAME:EDT
TZOFFSETFROM:-0500
TZOFFSETTO:-0400
END:DAYLIGHT
END:VTIMEZONE
END:VCALENDAR
