BEGIN:VCALENDAR
VERSION:2.0
PRODID:-//Plone.org//NONSGML plone.app.event//EN
X-WR-TIMEZONE:America/Detroit
BEGIN:VEVENT
SUMMARY:Kay E Murray - Funeral Mass
DTSTART;TZID=America/Detroit;VALUE=DATE-TIME:20251121T110000
DTEND;TZID=America/Detroit;VALUE=DATE-TIME:20251121T120000
DTSTAMP;VALUE=DATE-TIME:20260423T105041Z
UID:802d4a56d9ad422dbad4cbd02a4429a6
CONTACT:Marysville Office\, 810 364-7100\, info@marysvillefuneralhome.com\
 , https://maps.google.com/?q=St.+Christopher+Catholic+Church+1000+Michigan
 +Ave.+Marysville+MI+48040
CREATED;VALUE=DATE-TIME:20260131T223557Z
DESCRIPTION:St. Christopher Catholic Church
LAST-MODIFIED;VALUE=DATE-TIME:20260131T225606Z
LOCATION:1000 Michigan Ave.\, Marysville\, MI\, 48040
URL:https://pollockrandall.com/obituaries/18181/event-30819
END:VEVENT
BEGIN:VEVENT
SUMMARY:Kay E Murray - Visitation
DTSTART;TZID=America/Detroit;VALUE=DATE-TIME:20251121T103000
DTEND;TZID=America/Detroit;VALUE=DATE-TIME:20251121T110000
DTSTAMP;VALUE=DATE-TIME:20260423T105041Z
UID:d24cc1380f904ab6ae2770bd7b3406c2
CONTACT:Marysville Office\, 810 364-7100\, info@marysvillefuneralhome.com\
 , https://maps.google.com/?q=St.+Christopher+Catholic+Church+1000+Michigan
 +Ave.+Marysville+MI+48040
CREATED;VALUE=DATE-TIME:20260131T223555Z
DESCRIPTION:St. Christopher Catholic Church
LAST-MODIFIED;VALUE=DATE-TIME:20260131T225605Z
LOCATION:1000 Michigan Ave.\, Marysville\, MI\, 48040
URL:https://pollockrandall.com/obituaries/18181/event-30818
END:VEVENT
BEGIN:VEVENT
SUMMARY:Kay E Murray - Scripture Service
DTSTART;TZID=America/Detroit;VALUE=DATE-TIME:20251120T193000
DTEND;TZID=America/Detroit;VALUE=DATE-TIME:20251120T200000
DTSTAMP;VALUE=DATE-TIME:20260423T105041Z
UID:e04c910c4ad24ecfa0d45b7fbff7becb
CONTACT:Marysville Office\, 810 364-7100\, info@marysvillefuneralhome.com\
 , https://maps.google.com/?q=Marysville+Funeral+Home+1200+Michigan+Avenue+
 Marysville+MI+48040
CREATED;VALUE=DATE-TIME:20260131T223553Z
DESCRIPTION:Marysville Funeral Home
LAST-MODIFIED;VALUE=DATE-TIME:20260131T225604Z
LOCATION:1200 Michigan Avenue\, Marysville\, MI\, 48040
URL:https://pollockrandall.com/obituaries/18181/event-30817
END:VEVENT
BEGIN:VEVENT
SUMMARY:Kay E Murray - Visitation
DTSTART;TZID=America/Detroit;VALUE=DATE-TIME:20251120T180000
DTEND;TZID=America/Detroit;VALUE=DATE-TIME:20251120T200000
DTSTAMP;VALUE=DATE-TIME:20260423T105041Z
UID:68383a7e36be48e1a17667ae89768287
CONTACT:Marysville Office\, 810 364-7100\, info@marysvillefuneralhome.com\
 , https://maps.google.com/?q=Marysville+Funeral+Home+1200+Michigan+Avenue+
 Marysville+MI+48040
CREATED;VALUE=DATE-TIME:20260131T223552Z
DESCRIPTION:Marysville Funeral Home
LAST-MODIFIED;VALUE=DATE-TIME:20260131T225603Z
LOCATION:1200 Michigan Avenue\, Marysville\, MI\, 48040
URL:https://pollockrandall.com/obituaries/18181/event-30816
END:VEVENT
BEGIN:VEVENT
SUMMARY:Kay E Murray - Visitation
DTSTART;TZID=America/Detroit;VALUE=DATE-TIME:20251120T140000
DTEND;TZID=America/Detroit;VALUE=DATE-TIME:20251120T160000
DTSTAMP;VALUE=DATE-TIME:20260423T105041Z
UID:7a385bfaa8ad40e18658db18dad5c952
CONTACT:Marysville Office\, 810 364-7100\, info@marysvillefuneralhome.com\
 , https://maps.google.com/?q=Marysville+Funeral+Home+1200+Michigan+Avenue+
 Marysville+MI+48040
CREATED;VALUE=DATE-TIME:20260131T223550Z
DESCRIPTION:Marysville Funeral Home
LAST-MODIFIED;VALUE=DATE-TIME:20260131T225600Z
LOCATION:1200 Michigan Avenue\, Marysville\, MI\, 48040
URL:https://pollockrandall.com/obituaries/18181/event-30815
END:VEVENT
BEGIN:VTIMEZONE
TZID:America/Detroit
X-LIC-LOCATION:America/Detroit
BEGIN:STANDARD
DTSTART;VALUE=DATE-TIME:20251102T010000
TZNAME:EST
TZOFFSETFROM:-0400
TZOFFSETTO:-0500
END:STANDARD
END:VTIMEZONE
END:VCALENDAR
