BEGIN:VCALENDAR
VERSION:2.0
PRODID:-//Plone.org//NONSGML plone.app.event//EN
X-WR-TIMEZONE:America/Detroit
BEGIN:VEVENT
SUMMARY:Margaret J Spalding - Visitation
DTSTART;TZID=America/Detroit;VALUE=DATE-TIME:20260426T140000
DTEND;TZID=America/Detroit;VALUE=DATE-TIME:20260426T170000
DTSTAMP;VALUE=DATE-TIME:20260419T152811Z
UID:9873371518064156963bcc03fbfd69fd
CONTACT:Pollock-Randall Office\, 810 982-0179\, info@pollockrandall.com\, 
 https://maps.google.com/?q=Pollock+Randall+Funeral+Home+912+Lapeer+Avenue+
 Port+Huron+MI+48060
CREATED;VALUE=DATE-TIME:20260419T155727Z
DESCRIPTION:Pollock-Randall Funeral Home
LAST-MODIFIED;VALUE=DATE-TIME:20260419T155728Z
LOCATION:912 Lapeer Avenue\, Port Huron\, MI\, 48060
URL:https://pollockrandall.com/obituaries/18472/event-31322
END:VEVENT
BEGIN:VEVENT
SUMMARY:Margaret J Spalding - Visitation
DTSTART;TZID=America/Detroit;VALUE=DATE-TIME:20260427T100000
DTEND;TZID=America/Detroit;VALUE=DATE-TIME:20260427T110000
DTSTAMP;VALUE=DATE-TIME:20260419T152811Z
UID:6de7fcce9ee046f49ba208e62fae4620
CONTACT:Pollock-Randall Office\, 810 982-0179\, info@pollockrandall.com\, 
 https://maps.google.com/?q=Pollock+Randall+Funeral+Home+912+Lapeer+Avenue+
 Port+Huron+MI+48060
CREATED;VALUE=DATE-TIME:20260419T155728Z
DESCRIPTION:Pollock-Randall Funeral Home
LAST-MODIFIED;VALUE=DATE-TIME:20260419T155729Z
LOCATION:912 Lapeer Avenue\, Port Huron\, MI\, 48060
URL:https://pollockrandall.com/obituaries/18472/event-31323
END:VEVENT
BEGIN:VEVENT
SUMMARY:Margaret J Spalding - Funeral Service
DTSTART;TZID=America/Detroit;VALUE=DATE-TIME:20260427T110000
DTEND;TZID=America/Detroit;VALUE=DATE-TIME:20260427T120000
DTSTAMP;VALUE=DATE-TIME:20260419T152811Z
UID:4b41351451bb47e0b39e4c42286bce6d
CONTACT:Pollock-Randall Office\, 810 982-0179\, info@pollockrandall.com\, 
 https://maps.google.com/?q=Pollock+Randall+Funeral+Home+912+Lapeer+Avenue+
 Port+Huron+MI+48060
CREATED;VALUE=DATE-TIME:20260419T155730Z
DESCRIPTION:Pollock-Randall Funeral Home
LAST-MODIFIED;VALUE=DATE-TIME:20260419T155730Z
LOCATION:912 Lapeer Avenue\, Port Huron\, MI\, 48060
URL:https://pollockrandall.com/obituaries/18472/event-31324
END:VEVENT
BEGIN:VTIMEZONE
TZID:America/Detroit
X-LIC-LOCATION:America/Detroit
BEGIN:DAYLIGHT
DTSTART;VALUE=DATE-TIME:20260308T030000
TZNAME:EDT
TZOFFSETFROM:-0500
TZOFFSETTO:-0400
END:DAYLIGHT
END:VTIMEZONE
END:VCALENDAR
