BEGIN:VCALENDAR
VERSION:2.0
PRODID:-//Plone.org//NONSGML plone.app.event//EN
X-WR-TIMEZONE:America/Detroit
BEGIN:VEVENT
SUMMARY:Mary E Wolfe - Visitation
DTSTART;TZID=America/Detroit;VALUE=DATE-TIME:20260422T170000
DTEND;TZID=America/Detroit;VALUE=DATE-TIME:20260422T200000
DTSTAMP;VALUE=DATE-TIME:20260420T180901Z
UID:f62265bb80e240e0ba736844e454c81f
CONTACT:Pollock-Randall Office\, 810 982-0179\, info@pollockrandall.com\, 
 https://maps.google.com/?q=Pollock+Randall+Funeral+Home+912+Lapeer+Avenue+
 Port+Huron+MI+48060
CREATED;VALUE=DATE-TIME:20260420T191027Z
DESCRIPTION:Pollock-Randall Funeral Home
LAST-MODIFIED;VALUE=DATE-TIME:20260420T191028Z
LOCATION:912 Lapeer Avenue\, Port Huron\, MI\, 48060
URL:https://pollockrandall.com/obituaries/18483/event-31327
END:VEVENT
BEGIN:VEVENT
SUMMARY:Mary E Wolfe - Funeral Service
DTSTART;TZID=America/Detroit;VALUE=DATE-TIME:20260423T110000
DTEND;TZID=America/Detroit;VALUE=DATE-TIME:20260423T120000
DTSTAMP;VALUE=DATE-TIME:20260420T180901Z
UID:d02d83d556234e02ac63354319bf9a3e
CONTACT:Pollock-Randall Office\, 810 982-0179\, info@pollockrandall.com\, 
 https://maps.google.com/?q=Pollock+Randall+Funeral+Home+912+Lapeer+Avenue+
 Port+Huron+MI+48060
CREATED;VALUE=DATE-TIME:20260420T191029Z
DESCRIPTION:Pollock-Randall Funeral Home
LAST-MODIFIED;VALUE=DATE-TIME:20260420T191029Z
LOCATION:912 Lapeer Avenue\, Port Huron\, MI\, 48060
URL:https://pollockrandall.com/obituaries/18483/event-31328
END:VEVENT
BEGIN:VTIMEZONE
TZID:America/Detroit
X-LIC-LOCATION:America/Detroit
BEGIN:DAYLIGHT
DTSTART;VALUE=DATE-TIME:20260308T030000
TZNAME:EDT
TZOFFSETFROM:-0500
TZOFFSETTO:-0400
END:DAYLIGHT
END:VTIMEZONE
END:VCALENDAR
