BEGIN:VCALENDAR
VERSION:2.0
PRODID:-//Plone.org//NONSGML plone.app.event//EN
X-WR-TIMEZONE:America/Detroit
BEGIN:VEVENT
SUMMARY:Clifford Adamson - Memorial Service
DTSTART;TZID=America/Detroit;VALUE=DATE-TIME:20260426T160000
DTEND;TZID=America/Detroit;VALUE=DATE-TIME:20260426T170000
DTSTAMP;VALUE=DATE-TIME:20260421T183808Z
UID:31ed8516b0434cfca8fcaa2b41ee0606
CONTACT:Marysville Office\, 810 364-7100\, info@marysvillefuneralhome.com\
 , https://maps.google.com/?q=Marysville+Funeral+Home+1200+Michigan+Avenue+
 Marysville+MI+48040
CREATED;VALUE=DATE-TIME:20260421T180825Z
DESCRIPTION:Marysville Funeral Home
LAST-MODIFIED;VALUE=DATE-TIME:20260421T180826Z
LOCATION:1200 Michigan Avenue\, Marysville\, MI\, 48040
URL:https://pollockrandall.com/obituaries/18484/event-31331
END:VEVENT
BEGIN:VEVENT
SUMMARY:Clifford Adamson - Visitation
DTSTART;TZID=America/Detroit;VALUE=DATE-TIME:20260426T140000
DTEND;TZID=America/Detroit;VALUE=DATE-TIME:20260426T160000
DTSTAMP;VALUE=DATE-TIME:20260421T183808Z
UID:10e079baba8f4feca2d32ff55e195fa5
CONTACT:Marysville Office\, 810 364-7100\, info@marysvillefuneralhome.com\
 , https://maps.google.com/?q=Marysville+Funeral+Home+1200+Michigan+Avenue+
 Marysville+MI+48040
CREATED;VALUE=DATE-TIME:20260421T180824Z
DESCRIPTION:Marysville Funeral Home
LAST-MODIFIED;VALUE=DATE-TIME:20260421T180824Z
LOCATION:1200 Michigan Avenue\, Marysville\, MI\, 48040
URL:https://pollockrandall.com/obituaries/18484/event-31330
END:VEVENT
BEGIN:VTIMEZONE
TZID:America/Detroit
X-LIC-LOCATION:America/Detroit
BEGIN:DAYLIGHT
DTSTART;VALUE=DATE-TIME:20260308T030000
TZNAME:EDT
TZOFFSETFROM:-0500
TZOFFSETTO:-0400
END:DAYLIGHT
END:VTIMEZONE
END:VCALENDAR
