BEGIN:VCALENDAR
VERSION:2.0
PRODID:-//Plone.org//NONSGML plone.app.event//EN
X-WR-TIMEZONE:America/Detroit
BEGIN:VEVENT
SUMMARY:Daniel L Scallion - Visitation
DTSTART;TZID=America/Detroit;VALUE=DATE-TIME:20260423T140000
DTEND;TZID=America/Detroit;VALUE=DATE-TIME:20260423T160000
DTSTAMP;VALUE=DATE-TIME:20260422T180220Z
UID:9e458af6c4ec4852b750f9ab9d36fcf7
CONTACT:Pollock-Randall Office\, 810 982-0179\, info@pollockrandall.com\, 
 https://maps.google.com/?q=Karrer+Simpson+Funeral+Home+1720+Elk+Street+Por
 t+Huron+MI+48060
CREATED;VALUE=DATE-TIME:20260422T185224Z
DESCRIPTION:Karrer-Simpson Funeral Home
LAST-MODIFIED;VALUE=DATE-TIME:20260422T185225Z
LOCATION:1720 Elk Street\, Port Huron\, MI\, 48060
URL:https://pollockrandall.com/obituaries/18487/event-31335
END:VEVENT
BEGIN:VEVENT
SUMMARY:Daniel L Scallion - Visitation
DTSTART;TZID=America/Detroit;VALUE=DATE-TIME:20260423T180000
DTEND;TZID=America/Detroit;VALUE=DATE-TIME:20260423T200000
DTSTAMP;VALUE=DATE-TIME:20260422T180220Z
UID:2e42e55539f84e4e86b83f8668a26e78
CONTACT:Pollock-Randall Office\, 810 982-0179\, info@pollockrandall.com\, 
 https://maps.google.com/?q=Karrer+Simpson+Funeral+Home+1720+Elk+Street+Por
 t+Huron+MI+48060
CREATED;VALUE=DATE-TIME:20260422T185226Z
DESCRIPTION:Karrer-Simpson Funeral Home
LAST-MODIFIED;VALUE=DATE-TIME:20260422T185226Z
LOCATION:1720 Elk Street\, Port Huron\, MI\, 48060
URL:https://pollockrandall.com/obituaries/18487/event-31336
END:VEVENT
BEGIN:VEVENT
SUMMARY:Daniel L Scallion - Rosary
DTSTART;TZID=America/Detroit;VALUE=DATE-TIME:20260423T193000
DTEND;TZID=America/Detroit;VALUE=DATE-TIME:20260423T200000
DTSTAMP;VALUE=DATE-TIME:20260422T180220Z
UID:7901c7f47fb0440dbe54087ccbcde96c
CONTACT:Pollock-Randall Office\, 810 982-0179\, info@pollockrandall.com\, 
 https://maps.google.com/?q=Karrer+Simpson+Funeral+Home+1720+Elk+Street+Por
 t+Huron+MI+48060
CREATED;VALUE=DATE-TIME:20260422T185227Z
DESCRIPTION:Karrer-Simpson Funeral Home
LAST-MODIFIED;VALUE=DATE-TIME:20260422T185228Z
LOCATION:1720 Elk Street\, Port Huron\, MI\, 48060
URL:https://pollockrandall.com/obituaries/18487/event-31339
END:VEVENT
BEGIN:VEVENT
SUMMARY:Daniel L Scallion - Visitation
DTSTART;TZID=America/Detroit;VALUE=DATE-TIME:20260424T103000
DTEND;TZID=America/Detroit;VALUE=DATE-TIME:20260424T110000
DTSTAMP;VALUE=DATE-TIME:20260422T180220Z
UID:94ccdbe719df4bed853b90f155acfc3f
CONTACT:Pollock-Randall Office\, 810 982-0179\, info@pollockrandall.com\, 
 https://maps.google.com/?q=St.+Joseph+Catholic+Church+Port+Huron+1331+7th+
 Street+Port+Huron+MI+48060
CREATED;VALUE=DATE-TIME:20260422T185228Z
DESCRIPTION:St. Joseph Catholic Church - Port Huron
LAST-MODIFIED;VALUE=DATE-TIME:20260422T185229Z
LOCATION:1331 7th Street\, Port Huron\, MI\, 48060
URL:https://pollockrandall.com/obituaries/18487/event-31337
END:VEVENT
BEGIN:VEVENT
SUMMARY:Daniel L Scallion - Funeral Mass
DTSTART;TZID=America/Detroit;VALUE=DATE-TIME:20260424T110000
DTEND;TZID=America/Detroit;VALUE=DATE-TIME:20260424T120000
DTSTAMP;VALUE=DATE-TIME:20260422T180220Z
UID:d4503bf302834ee6b9d44caba3054d06
CONTACT:Pollock-Randall Office\, 810 982-0179\, info@pollockrandall.com\, 
 https://maps.google.com/?q=St.+Joseph+Catholic+Church+Port+Huron+1331+7th+
 Street+Port+Huron+MI+48060
CREATED;VALUE=DATE-TIME:20260422T185230Z
DESCRIPTION:St. Joseph Catholic Church - Port Huron
LAST-MODIFIED;VALUE=DATE-TIME:20260422T185230Z
LOCATION:1331 7th Street\, Port Huron\, MI\, 48060
URL:https://pollockrandall.com/obituaries/18487/event-31338
END:VEVENT
BEGIN:VTIMEZONE
TZID:America/Detroit
X-LIC-LOCATION:America/Detroit
BEGIN:DAYLIGHT
DTSTART;VALUE=DATE-TIME:20260308T030000
TZNAME:EDT
TZOFFSETFROM:-0500
TZOFFSETTO:-0400
END:DAYLIGHT
END:VTIMEZONE
END:VCALENDAR
